BEGIN:VCALENDAR
VERSION:2.0
PRODID:-//Rotary Distrito 2203 - España - ECPv6.15.18//NONSGML v1.0//EN
CALSCALE:GREGORIAN
METHOD:PUBLISH
X-ORIGINAL-URL:https://rotary2203.org
X-WR-CALDESC:Eventos para Rotary Distrito 2203 - España
REFRESH-INTERVAL;VALUE=DURATION:PT1H
X-Robots-Tag:noindex
X-PUBLISHED-TTL:PT1H
BEGIN:VTIMEZONE
TZID:Europe/Madrid
BEGIN:DAYLIGHT
TZOFFSETFROM:+0100
TZOFFSETTO:+0200
TZNAME:CEST
DTSTART:20200329T010000
END:DAYLIGHT
BEGIN:STANDARD
TZOFFSETFROM:+0200
TZOFFSETTO:+0100
TZNAME:CET
DTSTART:20201025T010000
END:STANDARD
BEGIN:DAYLIGHT
TZOFFSETFROM:+0100
TZOFFSETTO:+0200
TZNAME:CEST
DTSTART:20210328T010000
END:DAYLIGHT
BEGIN:STANDARD
TZOFFSETFROM:+0200
TZOFFSETTO:+0100
TZNAME:CET
DTSTART:20211031T010000
END:STANDARD
BEGIN:DAYLIGHT
TZOFFSETFROM:+0100
TZOFFSETTO:+0200
TZNAME:CEST
DTSTART:20220327T010000
END:DAYLIGHT
BEGIN:STANDARD
TZOFFSETFROM:+0200
TZOFFSETTO:+0100
TZNAME:CET
DTSTART:20221030T010000
END:STANDARD
END:VTIMEZONE
BEGIN:VEVENT
DTSTART;TZID=Europe/Madrid:20211007T140000
DTEND;TZID=Europe/Madrid:20211007T180000
DTSTAMP:20260425T140025
CREATED:20211004T083700Z
LAST-MODIFIED:20211004T083700Z
UID:15685-1633615200-1633629600@rotary2203.org
SUMMARY:Visita Club Pollença
DESCRIPTION:
URL:https://rotary2203.org/event/visita-club-pollenca/
CATEGORIES:Calendario Javier Ygarza
END:VEVENT
BEGIN:VEVENT
DTSTART;TZID=Europe/Madrid:20211007T140000
DTEND;TZID=Europe/Madrid:20211007T190000
DTSTAMP:20260425T140025
CREATED:20210927T073631Z
LAST-MODIFIED:20210927T073631Z
UID:15476-1633615200-1633633200@rotary2203.org
SUMMARY:Visita Rotary Club Palma Almudaina
DESCRIPTION:
URL:https://rotary2203.org/event/visita-rotary-club-palma-almudaina/
CATEGORIES:Calendario Javier Ygarza
END:VEVENT
BEGIN:VEVENT
DTSTART;TZID=Europe/Madrid:20211007T200000
DTEND;TZID=Europe/Madrid:20211007T200000
DTSTAMP:20260425T140025
CREATED:20211004T083600Z
LAST-MODIFIED:20211004T083632Z
UID:15683-1633636800-1633636800@rotary2203.org
SUMMARY:Visita RC Inca
DESCRIPTION:
URL:https://rotary2203.org/event/visita-rc-inca/
CATEGORIES:Calendario Javier Ygarza
END:VEVENT
END:VCALENDAR