BEGIN:VCALENDAR
VERSION:2.0
PRODID:-//Rotary Distrito 2203 - España - ECPv6.15.18//NONSGML v1.0//EN
CALSCALE:GREGORIAN
METHOD:PUBLISH
X-WR-CALNAME:Rotary Distrito 2203 - España
X-ORIGINAL-URL:https://rotary2203.org
X-WR-CALDESC:Eventos para Rotary Distrito 2203 - España
REFRESH-INTERVAL;VALUE=DURATION:PT1H
X-Robots-Tag:noindex
X-PUBLISHED-TTL:PT1H
BEGIN:VTIMEZONE
TZID:Europe/Madrid
BEGIN:DAYLIGHT
TZOFFSETFROM:+0100
TZOFFSETTO:+0200
TZNAME:CEST
DTSTART:20200329T010000
END:DAYLIGHT
BEGIN:STANDARD
TZOFFSETFROM:+0200
TZOFFSETTO:+0100
TZNAME:CET
DTSTART:20201025T010000
END:STANDARD
BEGIN:DAYLIGHT
TZOFFSETFROM:+0100
TZOFFSETTO:+0200
TZNAME:CEST
DTSTART:20210328T010000
END:DAYLIGHT
BEGIN:STANDARD
TZOFFSETFROM:+0200
TZOFFSETTO:+0100
TZNAME:CET
DTSTART:20211031T010000
END:STANDARD
BEGIN:DAYLIGHT
TZOFFSETFROM:+0100
TZOFFSETTO:+0200
TZNAME:CEST
DTSTART:20220327T010000
END:DAYLIGHT
BEGIN:STANDARD
TZOFFSETFROM:+0200
TZOFFSETTO:+0100
TZNAME:CET
DTSTART:20221030T010000
END:STANDARD
END:VTIMEZONE
BEGIN:VEVENT
DTSTART;TZID=Europe/Madrid:20211020T150000
DTEND;TZID=Europe/Madrid:20211020T190000
DTSTAMP:20260425T135715
CREATED:20210930T091927Z
LAST-MODIFIED:20210930T091927Z
UID:15576-1634742000-1634756400@rotary2203.org
SUMMARY:Visita del Gobernador al RC Cartagena
DESCRIPTION:
URL:https://rotary2203.org/event/visita-del-gobernador-al-rc-cartagena/
CATEGORIES:Calendario Javier Ygarza
END:VEVENT
BEGIN:VEVENT
DTSTART;VALUE=DATE:20211021
DTEND;VALUE=DATE:20211023
DTSTAMP:20260425T135715
CREATED:20211011T061117Z
LAST-MODIFIED:20211011T061117Z
UID:15862-1634781600-1634867999@rotary2203.org
SUMMARY:Reunión tridistrital de coordinación de la revista rotaria
DESCRIPTION:
URL:https://rotary2203.org/event/reunion-tridistrital-de-coordinacion-de-la-revista-rotaria/
CATEGORIES:Calendario Javier Ygarza
END:VEVENT
END:VCALENDAR