BEGIN:VCALENDAR
VERSION:2.0
PRODID:-//Rotary Distrito 2203 - España - ECPv6.15.18//NONSGML v1.0//EN
CALSCALE:GREGORIAN
METHOD:PUBLISH
X-ORIGINAL-URL:https://rotary2203.org
X-WR-CALDESC:Eventos para Rotary Distrito 2203 - España
REFRESH-INTERVAL;VALUE=DURATION:PT1H
X-Robots-Tag:noindex
X-PUBLISHED-TTL:PT1H
BEGIN:VTIMEZONE
TZID:Europe/Madrid
BEGIN:DAYLIGHT
TZOFFSETFROM:+0100
TZOFFSETTO:+0200
TZNAME:CEST
DTSTART:20200329T010000
END:DAYLIGHT
BEGIN:STANDARD
TZOFFSETFROM:+0200
TZOFFSETTO:+0100
TZNAME:CET
DTSTART:20201025T010000
END:STANDARD
BEGIN:DAYLIGHT
TZOFFSETFROM:+0100
TZOFFSETTO:+0200
TZNAME:CEST
DTSTART:20210328T010000
END:DAYLIGHT
BEGIN:STANDARD
TZOFFSETFROM:+0200
TZOFFSETTO:+0100
TZNAME:CET
DTSTART:20211031T010000
END:STANDARD
BEGIN:DAYLIGHT
TZOFFSETFROM:+0100
TZOFFSETTO:+0200
TZNAME:CEST
DTSTART:20220327T010000
END:DAYLIGHT
BEGIN:STANDARD
TZOFFSETFROM:+0200
TZOFFSETTO:+0100
TZNAME:CET
DTSTART:20221030T010000
END:STANDARD
END:VTIMEZONE
BEGIN:VEVENT
DTSTART;TZID=Europe/Madrid:20211106T143000
DTEND;TZID=Europe/Madrid:20211106T180000
DTSTAMP:20260423T154756
CREATED:20210920T063531Z
LAST-MODIFIED:20210920T064955Z
UID:15180-1636209000-1636221600@rotary2203.org
SUMMARY:Entrega de carta constitutiva al RC Gandía Ducal
DESCRIPTION:
URL:https://rotary2203.org/event/entrega-de-carta-constitutiva-al-rc-gandia-ducal/
LOCATION:Valencia
CATEGORIES:Calendario Javier Ygarza
END:VEVENT
BEGIN:VEVENT
DTSTART;VALUE=DATE:20211107
DTEND;VALUE=DATE:20211109
DTSTAMP:20260423T154756
CREATED:20211101T191226Z
LAST-MODIFIED:20211101T191226Z
UID:16426-1636246800-1636333199@rotary2203.org
SUMMARY:Día Mundial de Interact
DESCRIPTION:
URL:https://rotary2203.org/event/dia-mundial-de-interact/
LOCATION:Valencia
CATEGORIES:Calendario Javier Ygarza
END:VEVENT
END:VCALENDAR