BEGIN:VCALENDAR
VERSION:2.0
PRODID:-//Rotary Distrito 2203 - España - ECPv6.15.18//NONSGML v1.0//EN
CALSCALE:GREGORIAN
METHOD:PUBLISH
X-WR-CALNAME:Rotary Distrito 2203 - España
X-ORIGINAL-URL:https://rotary2203.org
X-WR-CALDESC:Eventos para Rotary Distrito 2203 - España
REFRESH-INTERVAL;VALUE=DURATION:PT1H
X-Robots-Tag:noindex
X-PUBLISHED-TTL:PT1H
BEGIN:VTIMEZONE
TZID:Europe/Madrid
BEGIN:DAYLIGHT
TZOFFSETFROM:+0100
TZOFFSETTO:+0200
TZNAME:CEST
DTSTART:20250330T010000
END:DAYLIGHT
BEGIN:STANDARD
TZOFFSETFROM:+0200
TZOFFSETTO:+0100
TZNAME:CET
DTSTART:20251026T010000
END:STANDARD
BEGIN:DAYLIGHT
TZOFFSETFROM:+0100
TZOFFSETTO:+0200
TZNAME:CEST
DTSTART:20260329T010000
END:DAYLIGHT
BEGIN:STANDARD
TZOFFSETFROM:+0200
TZOFFSETTO:+0100
TZNAME:CET
DTSTART:20261025T010000
END:STANDARD
BEGIN:DAYLIGHT
TZOFFSETFROM:+0100
TZOFFSETTO:+0200
TZNAME:CEST
DTSTART:20270328T010000
END:DAYLIGHT
BEGIN:STANDARD
TZOFFSETFROM:+0200
TZOFFSETTO:+0100
TZNAME:CET
DTSTART:20271031T010000
END:STANDARD
END:VTIMEZONE
BEGIN:VEVENT
DTSTART;TZID=Europe/Madrid:20260321T140000
DTEND;TZID=Europe/Madrid:20260321T230000
DTSTAMP:20260424T105234
CREATED:20260318T041226Z
LAST-MODIFIED:20260410T075504Z
UID:53028-1774101600-1774134000@rotary2203.org
SUMMARY:Experiencia Gastronómica en Ronda: Visita\, Cata y Almuerzo | RC Puerto Banús
DESCRIPTION:Rotary Puerto Banús te invita a vivir una experiencia gastronómica única el próximo 21 de marzo. La jornada comenzará a las 12:00 con una visita guiada y cata de aceites en la reconocida Almazara La Organic\, ubicada en Ronda\, donde podrás descubrir el proceso de elaboración y degustar productos de alta calidad. \nPosteriormente\, a las 14:00\, continuaremos con un almuerzo en el Restaurante Pedro Romero\, disfrutando de un ambiente tradicional y una excelente propuesta culinaria. \nEl evento tiene un costo de 60€ por persona\, que incluye la visita\, la cata y el almuerzo. \nLas plazas son limitadas\, por lo que se recomienda realizar la reserva con anticipación al número 666 777 888. \n#disfrutaRotary
URL:https://rotary2203.org/event/experiencia-gastronomica-en-ronda-visita-cata-y-almuerzo-rc-puerto-banus/
LOCATION:Málaga
CATEGORIES:Zona 9
END:VEVENT
END:VCALENDAR