BEGIN:VCALENDAR
VERSION:2.0
PRODID:-//Rotary Distrito 2203 - España - ECPv6.15.18//NONSGML v1.0//EN
CALSCALE:GREGORIAN
METHOD:PUBLISH
X-ORIGINAL-URL:https://rotary2203.org
X-WR-CALDESC:Eventos para Rotary Distrito 2203 - España
REFRESH-INTERVAL;VALUE=DURATION:PT1H
X-Robots-Tag:noindex
X-PUBLISHED-TTL:PT1H
BEGIN:VTIMEZONE
TZID:Europe/Madrid
BEGIN:DAYLIGHT
TZOFFSETFROM:+0100
TZOFFSETTO:+0200
TZNAME:CEST
DTSTART:20200329T010000
END:DAYLIGHT
BEGIN:STANDARD
TZOFFSETFROM:+0200
TZOFFSETTO:+0100
TZNAME:CET
DTSTART:20201025T010000
END:STANDARD
BEGIN:DAYLIGHT
TZOFFSETFROM:+0100
TZOFFSETTO:+0200
TZNAME:CEST
DTSTART:20210328T010000
END:DAYLIGHT
BEGIN:STANDARD
TZOFFSETFROM:+0200
TZOFFSETTO:+0100
TZNAME:CET
DTSTART:20211031T010000
END:STANDARD
BEGIN:DAYLIGHT
TZOFFSETFROM:+0100
TZOFFSETTO:+0200
TZNAME:CEST
DTSTART:20220327T010000
END:DAYLIGHT
BEGIN:STANDARD
TZOFFSETFROM:+0200
TZOFFSETTO:+0100
TZNAME:CET
DTSTART:20221030T010000
END:STANDARD
BEGIN:DAYLIGHT
TZOFFSETFROM:+0100
TZOFFSETTO:+0200
TZNAME:CEST
DTSTART:20230326T010000
END:DAYLIGHT
BEGIN:STANDARD
TZOFFSETFROM:+0200
TZOFFSETTO:+0100
TZNAME:CET
DTSTART:20231029T010000
END:STANDARD
END:VTIMEZONE
BEGIN:VEVENT
DTSTART;TZID=Europe/Madrid:20211125T130000
DTEND;TZID=Europe/Madrid:20211125T180000
DTSTAMP:20260423T220842
CREATED:20211122T120128Z
LAST-MODIFIED:20211126T165206Z
UID:16954-1637845200-1637863200@rotary2203.org
SUMMARY:Visita RC Alcoy Font Roja
DESCRIPTION:
URL:https://rotary2203.org/event/visita-rc-alcoy-font-roja/
LOCATION:Valencia
CATEGORIES:Calendario Javier Ygarza
END:VEVENT
BEGIN:VEVENT
DTSTART;TZID=Europe/Madrid:20211125T133000
DTEND;TZID=Europe/Madrid:20211125T180000
DTSTAMP:20260423T220842
CREATED:20211007T055032Z
LAST-MODIFIED:20211007T055032Z
UID:15791-1637847000-1637863200@rotary2203.org
SUMMARY:Vista oficial al RC Alcoy Font Roja
DESCRIPTION:
URL:https://rotary2203.org/event/vista-oficial-al-rc-alcoy-font-roja/
LOCATION:Valencia
CATEGORIES:Calendario Javier Ygarza
END:VEVENT
BEGIN:VEVENT
DTSTART;TZID=Europe/Madrid:20211126T010000
DTEND;TZID=Europe/Madrid:20211129T005900
DTSTAMP:20260423T220842
CREATED:20211122T115919Z
LAST-MODIFIED:20211122T115940Z
UID:16952-1637888400-1638147540@rotary2203.org
SUMMARY:Seminario Regional membresía en Oporto
DESCRIPTION:
URL:https://rotary2203.org/event/seminario-regional-membresia-en-oporto/
LOCATION:Valencia
CATEGORIES:Calendario Javier Ygarza
END:VEVENT
BEGIN:VEVENT
DTSTART;TZID=Europe/Madrid:20211129T143000
DTEND;TZID=Europe/Madrid:20211129T180000
DTSTAMP:20260423T220842
CREATED:20211117T152346Z
LAST-MODIFIED:20211117T153109Z
UID:16803-1638196200-1638208800@rotary2203.org
SUMMARY:Reunión Proyecto la Vega Baja
DESCRIPTION:
URL:https://rotary2203.org/event/reunion-proyecto-la-vega-baja/
LOCATION:Valencia
CATEGORIES:Calendario Javier Ygarza
END:VEVENT
BEGIN:VEVENT
DTSTART;TZID=Europe/Madrid:20211204T143000
DTEND;TZID=Europe/Madrid:20211204T160000
DTSTAMP:20260423T220842
CREATED:20211018T062903Z
LAST-MODIFIED:20211018T062903Z
UID:16012-1638628200-1638633600@rotary2203.org
SUMMARY:Zoom Hermanamiento Interact Méjico
DESCRIPTION:
URL:https://rotary2203.org/event/zoom-hermanamiento-interact-mejico/
LOCATION:Valencia
CATEGORIES:Calendario Javier Ygarza
END:VEVENT
BEGIN:VEVENT
DTSTART;TZID=Europe/Madrid:20211209T140000
DTEND;TZID=Europe/Madrid:20211209T180000
DTSTAMP:20260423T220842
CREATED:20211115T120525Z
LAST-MODIFIED:20211115T120525Z
UID:16746-1639058400-1639072800@rotary2203.org
SUMMARY:Visita Rotary Club Marbella Guadalmina
DESCRIPTION:
URL:https://rotary2203.org/event/visita-rotary-club-marbella-guadalmina/
LOCATION:Valencia
CATEGORIES:Calendario Javier Ygarza
END:VEVENT
BEGIN:VEVENT
DTSTART;TZID=Europe/Madrid:20211209T210000
DTEND;TZID=Europe/Madrid:20211210T003000
DTSTAMP:20260423T220842
CREATED:20211115T120638Z
LAST-MODIFIED:20211115T120638Z
UID:16748-1639083600-1639096200@rotary2203.org
SUMMARY:Visita Rotary Club Marbella Internacional
DESCRIPTION:
URL:https://rotary2203.org/event/visita-rotary-club-marbella-internacional/
LOCATION:Valencia
CATEGORIES:Calendario Javier Ygarza
END:VEVENT
BEGIN:VEVENT
DTSTART;TZID=Europe/Madrid:20211210T210000
DTEND;TZID=Europe/Madrid:20211211T003000
DTSTAMP:20260423T220842
CREATED:20211115T120447Z
LAST-MODIFIED:20211115T120447Z
UID:16744-1639170000-1639182600@rotary2203.org
SUMMARY:Visita Rotary Club Marbella Cosmopolitan
DESCRIPTION:
URL:https://rotary2203.org/event/visita-rotary-club-marbella-cosmopolitan/
LOCATION:Valencia
CATEGORIES:Calendario Javier Ygarza
END:VEVENT
BEGIN:VEVENT
DTSTART;TZID=Europe/Madrid:20211213T190000
DTEND;TZID=Europe/Madrid:20211214T003000
DTSTAMP:20260423T220842
CREATED:20211105T073150Z
LAST-MODIFIED:20211105T073150Z
UID:16495-1639422000-1639441800@rotary2203.org
SUMMARY:Visita del Gobernador al RC Torrevieja
DESCRIPTION:
URL:https://rotary2203.org/event/visita-del-gobernador-al-rc-torrevieja/
LOCATION:Valencia
CATEGORIES:Calendario Javier Ygarza
END:VEVENT
BEGIN:VEVENT
DTSTART;TZID=Europe/Madrid:20211214T200000
DTEND;TZID=Europe/Madrid:20211215T003000
DTSTAMP:20260423T220842
CREATED:20211115T120412Z
LAST-MODIFIED:20211115T120412Z
UID:16742-1639512000-1639528200@rotary2203.org
SUMMARY:Visita Rotary Club San Pedro de Alcantara
DESCRIPTION:
URL:https://rotary2203.org/event/visita-rotary-club-san-pedro-de-alcantara/
LOCATION:Valencia
CATEGORIES:Calendario Javier Ygarza
END:VEVENT
BEGIN:VEVENT
DTSTART;TZID=Europe/Madrid:20211215T150000
DTEND;TZID=Europe/Madrid:20211215T180000
DTSTAMP:20260423T220842
CREATED:20211122T122022Z
LAST-MODIFIED:20211122T122022Z
UID:16957-1639580400-1639591200@rotary2203.org
SUMMARY:Visita RC Granada
DESCRIPTION:
URL:https://rotary2203.org/event/visita-rc-granada/
LOCATION:Valencia
CATEGORIES:Calendario Javier Ygarza
END:VEVENT
BEGIN:VEVENT
DTSTART;TZID=Europe/Madrid:20211217T140000
DTEND;TZID=Europe/Madrid:20211217T180000
DTSTAMP:20260423T220842
CREATED:20211126T165012Z
LAST-MODIFIED:20211126T165117Z
UID:17074-1639749600-1639764000@rotary2203.org
SUMMARY:Formación CIP España - EEUU
DESCRIPTION:
URL:https://rotary2203.org/event/hermanamiento-cip-eeuu/
LOCATION:Valencia
CATEGORIES:Calendario Javier Ygarza
END:VEVENT
BEGIN:VEVENT
DTSTART;TZID=Europe/Madrid:20211218T150000
DTEND;TZID=Europe/Madrid:20211218T180000
DTSTAMP:20260423T220842
CREATED:20211025T050710Z
LAST-MODIFIED:20211126T165255Z
UID:16205-1639839600-1639850400@rotary2203.org
SUMMARY:Comida Navidad RC Dénia
DESCRIPTION:
URL:https://rotary2203.org/event/cena-navidad-rc-denia/
LOCATION:Valencia
CATEGORIES:Calendario Javier Ygarza
END:VEVENT
BEGIN:VEVENT
DTSTART;TZID=Europe/Madrid:20211231T203000
DTEND;TZID=Europe/Madrid:20211231T220000
DTSTAMP:20260423T220842
CREATED:20211112T082952Z
LAST-MODIFIED:20211112T082952Z
UID:16682-1640982600-1640988000@rotary2203.org
SUMMARY:Concierto Solidario en Murcia
DESCRIPTION:
URL:https://rotary2203.org/event/concierto-solidario-en-murcia/
LOCATION:Valencia
CATEGORIES:Calendario Javier Ygarza
END:VEVENT
BEGIN:VEVENT
DTSTART;TZID=Europe/Madrid:20220114T133000
DTEND;TZID=Europe/Madrid:20220114T180000
DTSTAMP:20260423T220842
CREATED:20211028T142556Z
LAST-MODIFIED:20211028T142556Z
UID:16356-1642167000-1642183200@rotary2203.org
SUMMARY:Visita del Gobernador al RC Mar Menor
DESCRIPTION:
URL:https://rotary2203.org/event/visita-del-gobernador-al-rc-mar-menor/
LOCATION:Valencia
CATEGORIES:Calendario Javier Ygarza
END:VEVENT
BEGIN:VEVENT
DTSTART;TZID=Europe/Madrid:20220221T090000
DTEND;TZID=Europe/Madrid:20220221T180000
DTSTAMP:20260423T220842
CREATED:20220221T174150Z
LAST-MODIFIED:20220221T174150Z
UID:18228-1645434000-1645466400@rotary2203.org
SUMMARY:Visita Rotary Club Estepona Sotogrande
DESCRIPTION:
URL:https://rotary2203.org/event/visita-rotary-club-estepona-sotogrande/
LOCATION:Valencia
CATEGORIES:Calendario Javier Ygarza
END:VEVENT
BEGIN:VEVENT
DTSTART;TZID=Europe/Madrid:20220222T173000
DTEND;TZID=Europe/Madrid:20220222T180000
DTSTAMP:20260423T220842
CREATED:20220221T174401Z
LAST-MODIFIED:20220221T174401Z
UID:18233-1645551000-1645552800@rotary2203.org
SUMMARY:Imposicion Collar Presidenta de Interact
DESCRIPTION:
URL:https://rotary2203.org/event/imposicion-collar-presidenta-de-interact/
LOCATION:Valencia
CATEGORIES:Calendario Javier Ygarza
END:VEVENT
BEGIN:VEVENT
DTSTART;TZID=Europe/Madrid:20220222T213000
DTEND;TZID=Europe/Madrid:20220222T213000
DTSTAMP:20260423T220842
CREATED:20220221T174112Z
LAST-MODIFIED:20220221T174112Z
UID:18226-1645565400-1645565400@rotary2203.org
SUMMARY:Visita Rotary Club Marbella
DESCRIPTION:
URL:https://rotary2203.org/event/visita-rotary-club-marbella/
LOCATION:Valencia
CATEGORIES:Calendario Javier Ygarza
END:VEVENT
BEGIN:VEVENT
DTSTART;TZID=Europe/Madrid:20220223T213000
DTEND;TZID=Europe/Madrid:20220223T213000
DTSTAMP:20260423T220842
CREATED:20220221T174036Z
LAST-MODIFIED:20220221T174036Z
UID:18224-1645651800-1645651800@rotary2203.org
SUMMARY:Visita Rotary Club Marbella Cosmopolitan
DESCRIPTION:
URL:https://rotary2203.org/event/visita-rotary-club-marbella-cosmopolitan-2/
LOCATION:Valencia
CATEGORIES:Calendario Javier Ygarza
END:VEVENT
BEGIN:VEVENT
DTSTART;TZID=Europe/Madrid:20220224T200000
DTEND;TZID=Europe/Madrid:20220224T203000
DTSTAMP:20260423T220842
CREATED:20220221T173958Z
LAST-MODIFIED:20220221T173958Z
UID:18222-1645732800-1645734600@rotary2203.org
SUMMARY:Visita Rotary Club San Pedro de Alcantara y Estepona
DESCRIPTION:
URL:https://rotary2203.org/event/visita-rotary-club-san-pedro-de-alcantara-y-estepona/
LOCATION:Valencia
CATEGORIES:Calendario Javier Ygarza
END:VEVENT
BEGIN:VEVENT
DTSTART;TZID=Europe/Madrid:20220225T090000
DTEND;TZID=Europe/Madrid:20220225T150000
DTSTAMP:20260423T220842
CREATED:20220204T203411Z
LAST-MODIFIED:20220204T203411Z
UID:17962-1645779600-1645801200@rotary2203.org
SUMMARY:Visita Rotay club Mar Menor
DESCRIPTION:
URL:https://rotary2203.org/event/visita-rotay-club-mar-menor/
LOCATION:Valencia
CATEGORIES:Calendario Javier Ygarza
END:VEVENT
BEGIN:VEVENT
DTSTART;TZID=Europe/Madrid:20220305T110000
DTEND;TZID=Europe/Madrid:20220305T180000
DTSTAMP:20260423T220842
CREATED:20220221T174434Z
LAST-MODIFIED:20220221T174512Z
UID:18235-1646478000-1646503200@rotary2203.org
SUMMARY:Curso de Orientacion Intercambios en Campello
DESCRIPTION:
URL:https://rotary2203.org/event/curso-de-orientacion-intercambios-en-campello/
LOCATION:Valencia
CATEGORIES:Calendario Javier Ygarza
END:VEVENT
BEGIN:VEVENT
DTSTART;VALUE=DATE:20220307
DTEND;VALUE=DATE:20220309
DTSTAMP:20260423T220842
CREATED:20220221T173839Z
LAST-MODIFIED:20220221T173839Z
UID:18218-1646614800-1646701199@rotary2203.org
SUMMARY:Evento Imagen Pública Rotary en Madrid
DESCRIPTION:
URL:https://rotary2203.org/event/evento-imagen-publica-rotary-en-madrid/
LOCATION:Valencia
CATEGORIES:Calendario Javier Ygarza
END:VEVENT
BEGIN:VEVENT
DTSTART;TZID=Europe/Madrid:20220307T210000
DTEND;TZID=Europe/Madrid:20220307T210000
DTSTAMP:20260423T220842
CREATED:20220221T173919Z
LAST-MODIFIED:20220221T173919Z
UID:18220-1646686800-1646686800@rotary2203.org
SUMMARY:Visita al club Torrevieja
DESCRIPTION:
URL:https://rotary2203.org/event/visita-al-club-torrevieja/
LOCATION:Valencia
CATEGORIES:Calendario Javier Ygarza
END:VEVENT
BEGIN:VEVENT
DTSTART;TZID=Europe/Madrid:20220310T140000
DTEND;TZID=Europe/Madrid:20220310T180000
DTSTAMP:20260423T220842
CREATED:20220307T145119Z
LAST-MODIFIED:20220307T145119Z
UID:18488-1646920800-1646935200@rotary2203.org
SUMMARY:Visita Rotary Club Alcoy
DESCRIPTION:
URL:https://rotary2203.org/event/visita-rotary-club-alcoy/
LOCATION:Valencia
CATEGORIES:Calendario Javier Ygarza
END:VEVENT
BEGIN:VEVENT
DTSTART;TZID=Europe/Madrid:20220316T140000
DTEND;TZID=Europe/Madrid:20220316T180000
DTSTAMP:20260423T220842
CREATED:20220404T090043Z
LAST-MODIFIED:20220404T090043Z
UID:18910-1647439200-1647453600@rotary2203.org
SUMMARY:Visita Rotary Club Calpe
DESCRIPTION:
URL:https://rotary2203.org/event/visita-rotary-club-calpe/
LOCATION:Valencia
CATEGORIES:Calendario Javier Ygarza
END:VEVENT
BEGIN:VEVENT
DTSTART;TZID=Europe/Madrid:20220317T140000
DTEND;TZID=Europe/Madrid:20220317T180000
DTSTAMP:20260423T220842
CREATED:20220404T085934Z
LAST-MODIFIED:20220404T085934Z
UID:18908-1647525600-1647540000@rotary2203.org
SUMMARY:Visita Rotary Club Alicante Puerto
DESCRIPTION:
URL:https://rotary2203.org/event/visita-rotary-club-alicante-puerto/
LOCATION:Valencia
CATEGORIES:Calendario Javier Ygarza
END:VEVENT
BEGIN:VEVENT
DTSTART;TZID=Europe/Madrid:20220323T140000
DTEND;TZID=Europe/Madrid:20220323T180000
DTSTAMP:20260423T220842
CREATED:20220404T090128Z
LAST-MODIFIED:20220404T090128Z
UID:18912-1648044000-1648058400@rotary2203.org
SUMMARY:Visita Rotary Club Calpe
DESCRIPTION:
URL:https://rotary2203.org/event/visita-rotary-club-calpe-2/
LOCATION:Valencia
CATEGORIES:Calendario Javier Ygarza
END:VEVENT
BEGIN:VEVENT
DTSTART;TZID=Europe/Madrid:20220326T130000
DTEND;TZID=Europe/Madrid:20220326T180000
DTSTAMP:20260423T220842
CREATED:20220404T085853Z
LAST-MODIFIED:20220404T085853Z
UID:18906-1648299600-1648317600@rotary2203.org
SUMMARY:Alcachofa Festival con el RC Almoradí
DESCRIPTION:
URL:https://rotary2203.org/event/alcachofa-festival-con-el-rc-almoradi/
LOCATION:Valencia
CATEGORIES:Calendario Javier Ygarza
END:VEVENT
BEGIN:VEVENT
DTSTART;VALUE=DATE:20220403
DTEND;VALUE=DATE:20220405
DTSTAMP:20260423T220842
CREATED:20220204T203742Z
LAST-MODIFIED:20220204T203742Z
UID:17969-1648951200-1649037599@rotary2203.org
SUMMARY:Ryla en Cullera zona 3
DESCRIPTION:
URL:https://rotary2203.org/event/ryla-en-cullera-zona-3/
LOCATION:Valencia
CATEGORIES:Calendario Javier Ygarza
END:VEVENT
END:VCALENDAR