BEGIN:VCALENDAR
VERSION:2.0
PRODID:-//Rotary Distrito 2203 - España - ECPv6.15.18//NONSGML v1.0//EN
CALSCALE:GREGORIAN
METHOD:PUBLISH
X-WR-CALNAME:Rotary Distrito 2203 - España
X-ORIGINAL-URL:https://rotary2203.org
X-WR-CALDESC:Eventos para Rotary Distrito 2203 - España
REFRESH-INTERVAL;VALUE=DURATION:PT1H
X-Robots-Tag:noindex
X-PUBLISHED-TTL:PT1H
BEGIN:VTIMEZONE
TZID:Europe/Madrid
BEGIN:DAYLIGHT
TZOFFSETFROM:+0100
TZOFFSETTO:+0200
TZNAME:CEST
DTSTART:20200329T010000
END:DAYLIGHT
BEGIN:STANDARD
TZOFFSETFROM:+0200
TZOFFSETTO:+0100
TZNAME:CET
DTSTART:20201025T010000
END:STANDARD
BEGIN:DAYLIGHT
TZOFFSETFROM:+0100
TZOFFSETTO:+0200
TZNAME:CEST
DTSTART:20210328T010000
END:DAYLIGHT
BEGIN:STANDARD
TZOFFSETFROM:+0200
TZOFFSETTO:+0100
TZNAME:CET
DTSTART:20211031T010000
END:STANDARD
BEGIN:DAYLIGHT
TZOFFSETFROM:+0100
TZOFFSETTO:+0200
TZNAME:CEST
DTSTART:20220327T010000
END:DAYLIGHT
BEGIN:STANDARD
TZOFFSETFROM:+0200
TZOFFSETTO:+0100
TZNAME:CET
DTSTART:20221030T010000
END:STANDARD
END:VTIMEZONE
BEGIN:VEVENT
DTSTART;TZID=Europe/Madrid:20211004T140000
DTEND;TZID=Europe/Madrid:20211004T190000
DTSTAMP:20260423T154710
CREATED:20210927T073438Z
LAST-MODIFIED:20210927T073438Z
UID:15469-1633356000-1633374000@rotary2203.org
SUMMARY:Visita Rotary Club Calviá Intenacional
DESCRIPTION:
URL:https://rotary2203.org/event/visita-rotary-club-calvia-intenacional/
LOCATION:Valencia
CATEGORIES:Calendario Javier Ygarza
END:VEVENT
BEGIN:VEVENT
DTSTART;TZID=Europe/Madrid:20211005T100000
DTEND;TZID=Europe/Madrid:20211005T190000
DTSTAMP:20260423T154710
CREATED:20210927T073517Z
LAST-MODIFIED:20210927T073517Z
UID:15471-1633428000-1633460400@rotary2203.org
SUMMARY:Visita Rotary Club Palma Ramon Llull
DESCRIPTION:
URL:https://rotary2203.org/event/visita-rotary-club-palma-ramon-llull/
LOCATION:Valencia
CATEGORIES:Calendario Javier Ygarza
END:VEVENT
BEGIN:VEVENT
DTSTART;TZID=Europe/Madrid:20211006T140000
DTEND;TZID=Europe/Madrid:20211006T190000
DTSTAMP:20260423T154710
CREATED:20210927T073544Z
LAST-MODIFIED:20210927T073544Z
UID:15473-1633528800-1633546800@rotary2203.org
SUMMARY:Visita Rotary Club Mallorca
DESCRIPTION:
URL:https://rotary2203.org/event/visita-rotary-club-mallorca/
LOCATION:Valencia
CATEGORIES:Calendario Javier Ygarza
END:VEVENT
BEGIN:VEVENT
DTSTART;TZID=Europe/Madrid:20211007T140000
DTEND;TZID=Europe/Madrid:20211007T180000
DTSTAMP:20260423T154710
CREATED:20211004T083700Z
LAST-MODIFIED:20211004T083700Z
UID:15685-1633615200-1633629600@rotary2203.org
SUMMARY:Visita Club Pollença
DESCRIPTION:
URL:https://rotary2203.org/event/visita-club-pollenca/
LOCATION:Valencia
CATEGORIES:Calendario Javier Ygarza
END:VEVENT
BEGIN:VEVENT
DTSTART;TZID=Europe/Madrid:20211007T140000
DTEND;TZID=Europe/Madrid:20211007T190000
DTSTAMP:20260423T154710
CREATED:20210927T073631Z
LAST-MODIFIED:20210927T073631Z
UID:15476-1633615200-1633633200@rotary2203.org
SUMMARY:Visita Rotary Club Palma Almudaina
DESCRIPTION:
URL:https://rotary2203.org/event/visita-rotary-club-palma-almudaina/
LOCATION:Valencia
CATEGORIES:Calendario Javier Ygarza
END:VEVENT
BEGIN:VEVENT
DTSTART;TZID=Europe/Madrid:20211007T200000
DTEND;TZID=Europe/Madrid:20211007T200000
DTSTAMP:20260423T154710
CREATED:20211004T083600Z
LAST-MODIFIED:20211004T083632Z
UID:15683-1633636800-1633636800@rotary2203.org
SUMMARY:Visita RC Inca
DESCRIPTION:
URL:https://rotary2203.org/event/visita-rc-inca/
LOCATION:Valencia
CATEGORIES:Calendario Javier Ygarza
END:VEVENT
BEGIN:VEVENT
DTSTART;TZID=Europe/Madrid:20211008T140000
DTEND;TZID=Europe/Madrid:20211008T190000
DTSTAMP:20260423T154710
CREATED:20210927T073715Z
LAST-MODIFIED:20210927T073715Z
UID:15478-1633701600-1633719600@rotary2203.org
SUMMARY:Visita Rotary Club Palma Catedral
DESCRIPTION:
URL:https://rotary2203.org/event/visita-rotary-club-palma-catedral/
LOCATION:Valencia
CATEGORIES:Calendario Javier Ygarza
END:VEVENT
BEGIN:VEVENT
DTSTART;TZID=Europe/Madrid:20211009T100000
DTEND;TZID=Europe/Madrid:20211009T190000
DTSTAMP:20260423T154710
CREATED:20210908T125716Z
LAST-MODIFIED:20210908T125716Z
UID:14064-1633773600-1633806000@rotary2203.org
SUMMARY:Seminario de capacitación en Palma de Mallorca
DESCRIPTION:
URL:https://rotary2203.org/event/seminario-de-capacitacion-en-palma-de-mallorca/
LOCATION:Valencia
CATEGORIES:Calendario Javier Ygarza
END:VEVENT
BEGIN:VEVENT
DTSTART;TZID=Europe/Madrid:20211014T020000
DTEND;TZID=Europe/Madrid:20211014T190000
DTSTAMP:20260423T154710
CREATED:20210729T052346Z
LAST-MODIFIED:20210908T153416Z
UID:13007-1634176800-1634238000@rotary2203.org
SUMMARY:Visita oficial del Gobernador a RC Almoradí
DESCRIPTION:
URL:https://rotary2203.org/event/entrega-carta-constitutiva-palma-mediterranea/
LOCATION:Valencia
CATEGORIES:Calendario Javier Ygarza
END:VEVENT
BEGIN:VEVENT
DTSTART;TZID=Europe/Madrid:20211016T100000
DTEND;TZID=Europe/Madrid:20211016T190000
DTSTAMP:20260423T154710
CREATED:20210908T125740Z
LAST-MODIFIED:20210908T125740Z
UID:14067-1634378400-1634410800@rotary2203.org
SUMMARY:Seminario de capacitación en Cartagena
DESCRIPTION:
URL:https://rotary2203.org/event/seminario-de-capacitacion-en-cartagena/
LOCATION:Valencia
CATEGORIES:Calendario Javier Ygarza
END:VEVENT
BEGIN:VEVENT
DTSTART;TZID=Europe/Madrid:20211018T200000
DTEND;TZID=Europe/Madrid:20211018T220000
DTSTAMP:20260423T154710
CREATED:20211005T144125Z
LAST-MODIFIED:20211005T144125Z
UID:15752-1634587200-1634594400@rotary2203.org
SUMMARY:Reunión Asociación multidistrital de Intercambios
DESCRIPTION:
URL:https://rotary2203.org/event/reunion-asociacion-multidistrital-de-intercambios/
LOCATION:Valencia
CATEGORIES:Calendario Javier Ygarza
END:VEVENT
BEGIN:VEVENT
DTSTART;TZID=Europe/Madrid:20211019T140000
DTEND;TZID=Europe/Madrid:20211019T190000
DTSTAMP:20260423T154710
CREATED:20210916T132156Z
LAST-MODIFIED:20210916T133436Z
UID:15077-1634652000-1634670000@rotary2203.org
SUMMARY:Visita oficial Rotary Club Lucentum
DESCRIPTION:
URL:https://rotary2203.org/event/visita-oficial-rotary-club-lucentum/
LOCATION:Valencia
CATEGORIES:Calendario Javier Ygarza
END:VEVENT
BEGIN:VEVENT
DTSTART;TZID=Europe/Madrid:20211020T150000
DTEND;TZID=Europe/Madrid:20211020T190000
DTSTAMP:20260423T154710
CREATED:20210930T091927Z
LAST-MODIFIED:20210930T091927Z
UID:15576-1634742000-1634756400@rotary2203.org
SUMMARY:Visita del Gobernador al RC Cartagena
DESCRIPTION:
URL:https://rotary2203.org/event/visita-del-gobernador-al-rc-cartagena/
LOCATION:Valencia
CATEGORIES:Calendario Javier Ygarza
END:VEVENT
BEGIN:VEVENT
DTSTART;VALUE=DATE:20211021
DTEND;VALUE=DATE:20211023
DTSTAMP:20260423T154710
CREATED:20211011T061117Z
LAST-MODIFIED:20211011T061117Z
UID:15862-1634781600-1634867999@rotary2203.org
SUMMARY:Reunión tridistrital de coordinación de la revista rotaria
DESCRIPTION:
URL:https://rotary2203.org/event/reunion-tridistrital-de-coordinacion-de-la-revista-rotaria/
LOCATION:Valencia
CATEGORIES:Calendario Javier Ygarza
END:VEVENT
BEGIN:VEVENT
DTSTART;TZID=Europe/Madrid:20211023T100000
DTEND;TZID=Europe/Madrid:20211023T190000
DTSTAMP:20260423T154710
CREATED:20210908T125801Z
LAST-MODIFIED:20210908T125801Z
UID:14069-1634983200-1635015600@rotary2203.org
SUMMARY:Seminario de capacitación en Málaga
DESCRIPTION:
URL:https://rotary2203.org/event/seminario-de-capacitacion-en-malaga/
LOCATION:Valencia
CATEGORIES:Calendario Javier Ygarza
END:VEVENT
BEGIN:VEVENT
DTSTART;TZID=Europe/Madrid:20211025T213000
DTEND;TZID=Europe/Madrid:20211026T013000
DTSTAMP:20260423T154710
CREATED:20211025T082846Z
LAST-MODIFIED:20211025T082846Z
UID:16215-1635197400-1635211800@rotary2203.org
SUMMARY:Visita RC Valencia Centro
DESCRIPTION:
URL:https://rotary2203.org/event/visita-rc-valencia-centro/
LOCATION:Valencia
CATEGORIES:Calendario Javier Ygarza
END:VEVENT
BEGIN:VEVENT
DTSTART;TZID=Europe/Madrid:20211028T150000
DTEND;TZID=Europe/Madrid:20211028T190000
DTSTAMP:20260423T154710
CREATED:20210930T092014Z
LAST-MODIFIED:20210930T092014Z
UID:15578-1635433200-1635447600@rotary2203.org
SUMMARY:Visita del Gobernador al RC Torre Pacheco
DESCRIPTION:
URL:https://rotary2203.org/event/visita-del-gobernador-al-rc-torre-pacheco/
LOCATION:Valencia
CATEGORIES:Calendario Javier Ygarza
END:VEVENT
BEGIN:VEVENT
DTSTART;TZID=Europe/Madrid:20211030T100000
DTEND;TZID=Europe/Madrid:20211030T190000
DTSTAMP:20260423T154710
CREATED:20210908T125822Z
LAST-MODIFIED:20210908T125822Z
UID:14071-1635588000-1635620400@rotary2203.org
SUMMARY:Seminario de capacitación en Sevilla
DESCRIPTION:
URL:https://rotary2203.org/event/seminario-de-capacitacion-en-sevilla/
LOCATION:Valencia
CATEGORIES:Calendario Javier Ygarza
END:VEVENT
END:VCALENDAR